BEGIN:VCALENDAR
VERSION:2.0
PRODID:-//ChamberMaster//Event Calendar 2.0//EN
METHOD:PUBLISH
X-PUBLISHED-TTL:P3D
REFRESH-INTERVAL:P3D
CALSCALE:GREGORIAN
BEGIN:VEVENT
DTSTART:20240607T003000Z
DTEND:20240607T023000Z
X-MICROSOFT-CDO-ALLDAYEVENT:FALSE
SUMMARY:Kevin Mannix Election Kickoff Party
DESCRIPTION:Kevin Mannix for Oregon State Representative General Election Kickoff\n\n\n\nJoin Kevin and the team to kick off the campaign year! Enjoy light appetizers\, beverages\, live music and an opportunity to learn about how you can help us win in November.\n\n\n\nContributions encouraged but not required\n\n\n\nPlease RSVP by emailing Kevin@MannixforOregon.com
X-ALT-DESC;FMTTYPE=text/html:<span style="font-size:18px\;"><strong>Kevin Mannix for Oregon State Representative General Election Kickoff<br />\n<br />\nJoin Kevin and the team to kick off the campaign year! Enjoy light appetizers\, beverages\, live music and an opportunity to learn about how you can help us win in November.<br />\n<br />\nContributions encouraged but not required<br />\n<br />\nPlease RSVP by emailing Kevin@MannixforOregon.com</strong></span><br />\n<br />\n&nbsp\;
LOCATION:East Salem Community Center 1850 45th Ave NE Salem\, OR 97305
UID:e.63.28838
SEQUENCE:3
DTSTAMP:20260424T091229Z
URL:https://cm.keizerchamber.com/events/details/kevin-mannix-election-kickoff-party-28838
END:VEVENT

END:VCALENDAR
