BEGIN:VCALENDAR
VERSION:2.0
PRODID:-//ChamberMaster//Event Calendar 2.0//EN
METHOD:PUBLISH
X-PUBLISHED-TTL:P3D
REFRESH-INTERVAL:P3D
CALSCALE:GREGORIAN
BEGIN:VEVENT
DTSTART:20090802T003000Z
DTEND:20090802T033000Z
X-MICROSOFT-CDO-ALLDAYEVENT:FALSE
SUMMARY:Keizer Rotary Amphitheatre
DESCRIPTION:Concert at Keizer Rotary Amphitheatre featuring Roundhouse with a prior preshow featuring Maggie Felber at 5:30 pm. A family friendly event\, $5 cost per person. Food and beverages will be available including beer and wine. Gates open at 5:00 pm\, tickets available for purchase at Keizer Chamber of Commerce\, Steamheat Coffee House and Keizertimes.
X-ALT-DESC;FMTTYPE=text/html:<div>Concert at Keizer Rotary Amphitheatre featuring Roundhouse with a prior preshow featuring Maggie&nbsp\;Felber at 5:30 pm. A family friendly event\, $5 cost per person. Food and beverages will be available including beer and wine. Gates open at 5:00 pm\, tickets available for purchase at Keizer Chamber of Commerce\, Steamheat Coffee House and Keizertimes.</div>
LOCATION:Keizer Rotary Amphitheatre at Keizer Rapids Park
UID:e.63.2243
SEQUENCE:3
DTSTAMP:20260422T103941Z
URL:https://cm.keizerchamber.com/events/details/keizer-rotary-amphitheatre-08-01-2009-2243
END:VEVENT

END:VCALENDAR
