BEGIN:VCALENDAR
VERSION:2.0
PRODID:-//ChamberMaster//Event Calendar 2.0//EN
METHOD:PUBLISH
X-PUBLISHED-TTL:P3D
REFRESH-INTERVAL:P3D
CALSCALE:GREGORIAN
BEGIN:VEVENT
DTSTART:20100226T200000Z
DTEND:20100226T210000Z
X-MICROSOFT-CDO-ALLDAYEVENT:FALSE
SUMMARY:Keizer Public Arts Committee
DESCRIPTION:A community discussion on:Winter Art SolsticeKeizer Art WalkMayor's Invitational
X-ALT-DESC;FMTTYPE=text/html:<div>A community discussion on:</div><div>Winter Art Solstice</div><div>Keizer Art Walk</div><div>Mayor&rsquo\;s Invitational</div>
LOCATION:Keizer Chamber Office980 Chemawa Rd NEKeizer\, OR 97303
UID:e.63.2119
SEQUENCE:3
DTSTAMP:20260421T224049Z
URL:https://cm.keizerchamber.com/events/details/keizer-public-arts-committee-02-26-2010-2119
END:VEVENT

END:VCALENDAR
