BEGIN:VCALENDAR
VERSION:2.0
PRODID:-//ChamberMaster//Event Calendar 2.0//EN
METHOD:PUBLISH
X-PUBLISHED-TTL:P3D
REFRESH-INTERVAL:P3D
CALSCALE:GREGORIAN
BEGIN:VEVENT
DTSTART:20231010T010000Z
DTEND:20231010T030000Z
X-MICROSOFT-CDO-ALLDAYEVENT:FALSE
SUMMARY:Keizer Fire District Open House and Safety Fair
DESCRIPTION:Keizer Fire District\n\nOpen House and Safety Fair\n\n\n\nBring the family and see the fire station\, learn about fire safety and see some of the partners that help keep our community safe.\n\n	Family fun\n	Free Giveaways\n	All ages welcome\n	Free hot dogs
X-ALT-DESC;FMTTYPE=text/html:Keizer Fire District<br />\nOpen House and Safety Fair<br />\n<br />\nBring the family and see the fire station\, learn about fire safety and see some of the partners that help keep our community safe.\n<ul>\n	<li>Family fun</li>\n	<li>Free Giveaways</li>\n	<li>All ages welcome</li>\n	<li>Free hot dogs&nbsp\;</li>\n</ul>\n
LOCATION:Keizer Fire Department 661 Chemawa Rd NE Keizer Or 97303
UID:e.63.28431
SEQUENCE:3
DTSTAMP:20260424T001450Z
URL:https://cm.keizerchamber.com/events/details/keizer-fire-district-open-house-and-safety-fair-28431
END:VEVENT

END:VCALENDAR
