BEGIN:VCALENDAR
VERSION:2.0
PRODID:-//ChamberMaster//Event Calendar 2.0//EN
METHOD:PUBLISH
X-PUBLISHED-TTL:P3D
REFRESH-INTERVAL:P3D
CALSCALE:GREGORIAN
BEGIN:VEVENT
DTSTART:20100618T013000Z
DTEND:20100618T040000Z
X-MICROSOFT-CDO-ALLDAYEVENT:FALSE
SUMMARY:Keizer Community Night at the Volcanoes
DESCRIPTION:Keizer Community Appreciation Night at the Salem Keizer Volcanoes.Join Keizer Chamber members and Keizer residents as they welcome the new team! The Chamber Board of Directors will throw the first pitch and attendees will be able to watch Oregon's All Star College players mix it up with the 2010 Volcanoes.   The Salem-Keizer Volcanoe season begins with a pre-season game versus the College All Stars. As a Keizer Community Appreciation Night sponsored by Sherwin-Williams Paint. Keizer residents may pick up a voucher\, at Sherwin-Williams Paint on River Road in Keizer\, and receive an outfield seat for just $5.00 for this game\, a savings $3.00 off normal day of game admission!  The game will also feature our first of six $1.00 Thursday Nights where selected adult beverages are just $1.00 during the game in the Stadium's Lava Lodge Sports Pub.
X-ALT-DESC;FMTTYPE=text/html:<div><strong><span style="font-size: small"><span style="color: #000080">Keizer Community Appreciation Night&nbsp\;at the </span></span></strong><span style="font-size: small"><span style="color: #000080"><strong>Salem Keizer Volcanoes.</strong></span></span></div><div><span style="color: #000080">Join Keizer Chamber members and Keizer residents as they welcome the new&nbsp\;team!&nbsp\;The Chamber&nbsp\;Board of Directors will throw the first pitch and attendees will be&nbsp\;able to watch Oregon&rsquo\;s All Star&nbsp\;College players mix it up with the 2010&nbsp\;Volcanoes.&nbsp\;&nbsp\;</span></div><div><span style="color: #000080">&nbsp\;</span></div><div><span style="color: #000080"><span style=""><font size="2">The Salem-Keizer Volcanoe season begins with a pre-season game versus the College All Stars. As a Keizer Community Appreciation Night sponsored by Sherwin-Williams Paint. Keizer residents may pick up a voucher\, at Sherwin-Williams Paint on River Road in Keizer\, and receive an outfield seat for just $5.00 for this game\, a savings $3.00 off normal day of game admission! </font></span></span></div><div>&nbsp\;</div><div><span style="color: #000080"><span style=""><font size="2">The game will also feature our first of six $1.00 Thursday Nights where selected adult beverages are just $1.00 during the game in the Stadium&rsquo\;s Lava Lodge Sports Pub.</font></span></span><span style="color: #000080"><br /></span></div><div><span style="color: #000080">&nbsp\;</span></div>
LOCATION:Salem Keizer Volcanoes6700 Field of Dreams WayKeizer Oregon
UID:e.63.2344
SEQUENCE:3
DTSTAMP:20260421T202033Z
URL:https://cm.keizerchamber.com/events/details/keizer-community-night-at-the-volcanoes-06-17-2010-2344
END:VEVENT

END:VCALENDAR
