BEGIN:VCALENDAR
VERSION:2.0
PRODID:-//ChamberMaster//Event Calendar 2.0//EN
METHOD:PUBLISH
X-PUBLISHED-TTL:P3D
REFRESH-INTERVAL:P3D
CALSCALE:GREGORIAN
BEGIN:VEVENT
DTSTART:20240521T153000Z
DTEND:20240521T163000Z
X-MICROSOFT-CDO-ALLDAYEVENT:FALSE
SUMMARY:Keizer Chamber Greeters & Ribbon Cutting: Winding Creek Ranch Mercantile
DESCRIPTION:Join us for Greeters and a Ribbon Cutting for Winding Creek Ranch Mercantile.\n\n\n\nJoin us as we take a field trip to visit one of the newest members of the Keizer Chamber of Commerce. \n\n\n\nJoin us to network with fellow members and guests and be sure to bring plenty of business cards and a door prize for added exposure.\n\n\n\nFree networking event for members and guests. We welcome guests to attend up to two of our events before we ask that they join in order to continue to enjoy this popular benefit of membership with the Keizer Chamber.
X-ALT-DESC;FMTTYPE=text/html:<font color="#1d2129" face="Helvetica\, Arial\, sans-serif"><span style="font-size: 14px\; white-space-collapse: preserve\;"><span style="font-size:18px\;"><strong>Join us for Greeters and a Ribbon Cutting for Winding Creek Ranch Mercantile.</strong></span><br />\n<br />\nJoin us as we take a field trip to visit one of the newest members of the Keizer Chamber of Commerce. </span></font><br style="color: rgb(29\, 33\, 41)\; font-family: Helvetica\, Arial\, sans-serif\; font-size: 14px\; white-space: pre-wrap\;" />\n<br style="color: rgb(29\, 33\, 41)\; font-family: Helvetica\, Arial\, sans-serif\; font-size: 14px\; white-space: pre-wrap\;" />\n<span style="color: rgb(29\, 33\, 41)\; font-family: Helvetica\, Arial\, sans-serif\; font-size: 14px\; white-space: pre-wrap\;">Join us to network with fellow members and guests and be sure to bring plenty of business cards and a door prize for added exposure.</span><br style="color: rgb(29\, 33\, 41)\; font-family: Helvetica\, Arial\, sans-serif\; font-size: 14px\; white-space: pre-wrap\;" />\n<br style="color: rgb(29\, 33\, 41)\; font-family: Helvetica\, Arial\, sans-serif\; font-size: 14px\; white-space: pre-wrap\;" />\n<span style="color: rgb(29\, 33\, 41)\; font-family: Helvetica\, Arial\, sans-serif\; font-size: 14px\; white-space: pre-wrap\;">Free networking event for members and guests. We welcome guests to attend up to two of our events before we ask that they join in order to continue to enjoy this popular benefit of membership with the Keizer Chamber.</span>
LOCATION:7235 3rd St SE Turner\, OR 97392
UID:e.63.28603
SEQUENCE:3
DTSTAMP:20260424T091410Z
URL:https://cm.keizerchamber.com/events/details/keizer-chamber-greeters-ribbon-cutting-winding-creek-ranch-mercantile-28603
END:VEVENT

END:VCALENDAR
