BEGIN:VCALENDAR
VERSION:2.0
PRODID:-//ChamberMaster//Event Calendar 2.0//EN
METHOD:PUBLISH
X-PUBLISHED-TTL:P3D
REFRESH-INTERVAL:P3D
CALSCALE:GREGORIAN
BEGIN:VEVENT
DTSTART:20231010T153000Z
DTEND:20231010T163000Z
X-MICROSOFT-CDO-ALLDAYEVENT:FALSE
SUMMARY:Keizer Chamber Greeters Hosted By: WaFd Bank
DESCRIPTION:Our host this week are the wonderful people from WaFd Bank down by where River Road morphs into Broadway. \n\n\n\nJoin us and learn about WaFd's longevity as a 100 year old bank\, 106 years old to be exact\, and how we help our consumer and business clients.  They will also be sharing how they are a unique\, 100% portfolio lender. \n\n\n\nWe invite you to network with fellow members and guests and be sure to bring plenty of business cards and a door prize for added exposure.\n\n\n\nFree networking event for members and guests. We welcome guests to attend up to two of our events before we ask that they join in order to continue to enjoy this popular benefit of membership with the Keizer Chamber.
X-ALT-DESC;FMTTYPE=text/html:<span style="font-size:16px\;"><strong><span style="font-family:arial\;">Our host this week are the wonderful people from WaFd Bank down by where River Road morphs into Broadway.&nbsp\;</span></strong></span><br />\n<br />\nJoin us and learn about WaFd&#39\;s longevity as a 100 year old bank\, 106 years old to be exact\, and how we help our consumer and business clients.&nbsp\; They will also be sharing how they are a unique\, 100% portfolio lender.&nbsp\;<br />\n<br />\n<span style="font-size:14px\;"><span style="font-family:arial\;">We invite you to network with fellow members and guests and be sure to bring plenty of business cards and a door prize for added exposure.<br />\n<br />\nFree networking event for members and guests. We welcome guests to attend up to two of our events before we ask that they join in order to continue to enjoy this popular benefit of membership with the Keizer Chamber.</span></span>
LOCATION:WaFd Bank 2955 Broadway St. NE Salem\, OR 97303
UID:e.63.28375
SEQUENCE:3
DTSTAMP:20260424T001456Z
URL:https://cm.keizerchamber.com/events/details/keizer-chamber-greeters-hosted-by-wafd-bank-28375
END:VEVENT

END:VCALENDAR
