BEGIN:VCALENDAR
VERSION:2.0
PRODID:-//ChamberMaster//Event Calendar 2.0//EN
METHOD:PUBLISH
X-PUBLISHED-TTL:P3D
REFRESH-INTERVAL:P3D
CALSCALE:GREGORIAN
BEGIN:VEVENT
DTSTART:20231128T163000Z
DTEND:20231128T173000Z
X-MICROSOFT-CDO-ALLDAYEVENT:FALSE
SUMMARY:Keizer Chamber Greeters Hosted By: Oregon Youth Authority Foster Care Unit
DESCRIPTION:This week at Greeters\, our host is Oregon Youth Authority Foster Care Unit\n\n\n\nThe Oregon Youth Authority Foster Care Division will be sharing qualifications to become a foster parent and the program and how anyone can help. \n\n\n\nFree networking event for members and guests. We welcome guests to attend up to two of our events before we ask that they join in order to continue to enjoy this popular benefit of membership with the Keizer Chamber.
X-ALT-DESC;FMTTYPE=text/html:<span style="font-size:14px\;"><span style="font-family:arial\;"><span style="font-size:20px\;"><strong>This week at Greeters\, our host is </strong></span><b><span style="font-size:20px\;"><strong>Oregon Youth Authority Foster Care Unit</strong></span></b></span></span><br />\n<br />\nThe Oregon Youth Authority Foster Care Division will be sharing qualifications to become a foster parent and the program and how anyone can help.&nbsp\;<br />\n<br />\n<span style="font-size:16px\;"><span style="font-family:arial\;">Free networking event for members and guests. We welcome guests to attend up to two of our events before we ask that they join in order to continue to enjoy this popular benefit of membership with the Keizer Chamber.</span></span>
LOCATION:The REC 3500 River Rd N Keizer\, OR 97303
UID:e.63.28403
SEQUENCE:3
DTSTAMP:20260423T201316Z
URL:https://cm.keizerchamber.com/events/details/keizer-chamber-greeters-hosted-by-oregon-youth-authority-foster-care-unit-28403
END:VEVENT

END:VCALENDAR
