BEGIN:VCALENDAR
VERSION:2.0
PRODID:-//ChamberMaster//Event Calendar 2.0//EN
METHOD:PUBLISH
X-PUBLISHED-TTL:P3D
REFRESH-INTERVAL:P3D
CALSCALE:GREGORIAN
BEGIN:VEVENT
DTSTART:20240514T153000Z
DTEND:20240514T163000Z
X-MICROSOFT-CDO-ALLDAYEVENT:FALSE
SUMMARY:Keizer Chamber Greeters Hosted By: Mid-Valley Media\, Inc.
DESCRIPTION:Our host this week is Mid-Valley Media\, Inc.\nPlease come and hear about who Mid-Valley Media\, Inc  is\, what we do\, and how we do it.\n\nServing business\, schools\, churches\, and governments with Sales\, Service\, Installation\, and Training of all things Video and Audio.  And of course  Making all your Streams come true. (auuhhhhh)\n\n\n\n\nWe invite you to network with fellow members and guests and be sure to bring plenty of business cards and a door prize for added exposure.\n\n\n\nFree networking event for members and guests. We welcome guests to attend up to two of our events before we ask that they join in order to continue to enjoy this popular benefit of membership with the Keizer Chamber.
X-ALT-DESC;FMTTYPE=text/html:<span style="font-size:16px\;"><font face="calibri\, sans-serif"><strong>Our host this week is Mid-Valley Media\, Inc.</strong></font></span>\n<p><span style="font-size:10.0pt\;font-family:&quot\;Verdana&quot\;\,sans-serif">Please come and hear about who Mid-Valley Media\, Inc&nbsp\; is\, what we do\, and how we do it.<br />\nServing business\, schools\, churches\, and governments with Sales\, Service\, Installation\, and Training of all things Video and Audio.&nbsp\; And of course&hellip\; Making all your Streams come true. (auuhhhhh)<o:p></o:p></span></p>\n<br />\n<br />\n<span style="font-size:16px\;"><span style="font-family:arial\;">We invite you to network with fellow members and guests and be sure to bring plenty of business cards and a door prize for added exposure.<br />\n<br />\nFree networking event for members and guests. We welcome guests to attend up to two of our events before we ask that they join in order to continue to enjoy this popular benefit of membership with the Keizer Chamber.</span></span>
LOCATION:The REC 3500 River Rd N Keizer OR 97303
UID:e.63.28614
SEQUENCE:3
DTSTAMP:20260424T090503Z
URL:https://cm.keizerchamber.com/events/details/keizer-chamber-greeters-hosted-by-mid-valley-media-inc-28614
END:VEVENT

END:VCALENDAR
