BEGIN:VCALENDAR
VERSION:2.0
PRODID:-//ChamberMaster//Event Calendar 2.0//EN
METHOD:PUBLISH
X-PUBLISHED-TTL:P3D
REFRESH-INTERVAL:P3D
CALSCALE:GREGORIAN
BEGIN:VEVENT
DTSTART:20231003T153000Z
DTEND:20231003T163000Z
X-MICROSOFT-CDO-ALLDAYEVENT:FALSE
SUMMARY:Keizer Chamber Greeters Hosted By: Keizer-Salem Area Seniors
DESCRIPTION:This week at Greeters\, our host is Keizer-Salem Area Seniors\n\n\n\nWe will be meeting at Keizer-Salem Area Seniors \n\n\n\nCome find out why Keizer-Salem Area Senior Center is the place to be.\n\n\n\nWe invite you to network with fellow members and guests and be sure to bring plenty of business cards and a door prize for added exposure.\n\n\n\nFree networking event for members and guests. We welcome guests to attend up to two of our events before we ask that they join in order to continue to enjoy this popular benefit of membership with the Keizer Chamber.
X-ALT-DESC;FMTTYPE=text/html:<span style="font-size:14px\;"><span style="font-family:arial\;">This week at Greeters\, our host is Keizer-Salem Area Seniors</span></span><br />\n<br />\n<span style="font-size:14px\;"><span style="font-family:arial\;"><strong>We will be meeting at Keizer-Salem Area Seniors&nbsp\;<br />\n<br />\nCome find out why Keizer-Salem Area Senior Center is the place to be.</strong><br />\n<br />\nWe invite you to network with fellow members and guests and be sure to bring plenty of business cards and a door prize for added exposure.<br />\n<br />\nFree networking event for members and guests. We welcome guests to attend up to two of our events before we ask that they join in order to continue to enjoy this popular benefit of membership with the Keizer Chamber.</span></span>
LOCATION:Keizer-Salem Area Seniors 930 Plymouth Dr NE Keizer\, OR 97303
UID:e.63.28387
SEQUENCE:3
DTSTAMP:20260424T001509Z
URL:https://cm.keizerchamber.com/events/details/keizer-chamber-greeters-hosted-by-keizer-salem-area-seniors-28387
END:VEVENT

END:VCALENDAR
