BEGIN:VCALENDAR
VERSION:2.0
PRODID:-//ChamberMaster//Event Calendar 2.0//EN
METHOD:PUBLISH
X-PUBLISHED-TTL:P3D
REFRESH-INTERVAL:P3D
CALSCALE:GREGORIAN
BEGIN:VEVENT
DTSTART:20240109T163000Z
DTEND:20240109T173000Z
X-MICROSOFT-CDO-ALLDAYEVENT:FALSE
SUMMARY:Keizer Chamber Greeters Hosted By: Keizer Chamber of Commerce
DESCRIPTION:This week at Greeters\, our host is the Keizer Chamber of Commerce.\n\n\n\nJoin us as we welcome you to a new year.\n\n\n\nWe invite you to network with fellow members and guests and be sure to bring plenty of business cards and a door prize for added exposure.\n\n\n\nFree networking event for members and guests. We welcome guests to attend up to two of our events before we ask that they join in order to continue to enjoy this popular benefit of membership with the Keizer Chamber.
X-ALT-DESC;FMTTYPE=text/html:<span style="font-size:14px\;"><span style="font-family:arial\;">This week at Greeters\, our host is the Keizer Chamber of Commerce.<br />\n<br />\nJoin us as we welcome you to a new year.</span></span><br />\n<br />\n<span style="font-size:14px\;"><span style="font-family:arial\;">We invite you to network with fellow members and guests and be sure to bring plenty of business cards and a door prize for added exposure.<br />\n<br />\nFree networking event for members and guests. We welcome guests to attend up to two of our events before we ask that they join in order to continue to enjoy this popular benefit of membership with the Keizer Chamber.</span></span>
LOCATION:The REC 3500 River Rd N Keizer\, OR 97303
UID:e.63.28407
SEQUENCE:3
DTSTAMP:20260424T031241Z
URL:https://cm.keizerchamber.com/events/details/keizer-chamber-greeters-hosted-by-keizer-chamber-of-commerce-01-09-2024-28407
END:VEVENT

END:VCALENDAR
