BEGIN:VCALENDAR
VERSION:2.0
PRODID:-//ChamberMaster//Event Calendar 2.0//EN
METHOD:PUBLISH
X-PUBLISHED-TTL:P3D
REFRESH-INTERVAL:P3D
CALSCALE:GREGORIAN
BEGIN:VEVENT
DTSTART:20230919T153000Z
DTEND:20230919T163000Z
X-MICROSOFT-CDO-ALLDAYEVENT:FALSE
SUMMARY:Keizer Chamber Greeters Hosted By: Jackson's Body Shop
DESCRIPTION:This week at Greeters\, our host is Jackson's Body Shop\n\n\n\nJoin us as we congratulate Larry Jackson and Jackson's Body Shop on 65 incredible years in business. Learn a little about Larry and his family.\n\n\n\nFree networking event for members and guests. We welcome guests to attend up to two of our events before we ask that they join in order to continue to enjoy this popular benefit of membership with the Keizer Chamber.
X-ALT-DESC;FMTTYPE=text/html:<span style="font-size:14px\;"><span style="font-family:arial\;"><span style="font-size:18px\;">This week at Greeters\, our host is </span><b><span style="font-size:18px\;">Jackson&#39\;s Body Shop</span></b></span></span><br />\n<br />\n<span style="font-size: 16px\;">Join us as we congratulate Larry Jackson and Jackson&#39\;s Body Shop on 65 incredible years in business. Learn a little about Larry and his family.</span><br />\n<br />\n<span style="font-size:16px\;"><span style="font-family:arial\;">Free networking event for members and guests. We welcome guests to attend up to two of our events before we ask that they join in order to continue to enjoy this popular benefit of membership with the Keizer Chamber.</span></span>
LOCATION:The REC 3500 River Rd N Keizer OR 97303
UID:e.63.28359
SEQUENCE:3
DTSTAMP:20260424T031117Z
URL:https://cm.keizerchamber.com/events/details/keizer-chamber-greeters-hosted-by-jackson-s-body-shop-28359
END:VEVENT

END:VCALENDAR
