BEGIN:VCALENDAR
VERSION:2.0
PRODID:-//ChamberMaster//Event Calendar 2.0//EN
METHOD:PUBLISH
X-PUBLISHED-TTL:P3D
REFRESH-INTERVAL:P3D
CALSCALE:GREGORIAN
BEGIN:VEVENT
DTSTART:20231107T163000Z
DTEND:20231107T173000Z
X-MICROSOFT-CDO-ALLDAYEVENT:FALSE
SUMMARY:Keizer Chamber Greeters Hosted By: J Turner Solutions
DESCRIPTION:This week at Greeters\, our host is J Turner Solutions.\n\n\n\nLet's face it\, small businesses in our community need our support more than ever. The problem is\, big box stores and corporate America are constantly trying to squeeze out the little guys.\n\nAnd\, while big tech platforms and media companies suck billions of dollars out of our local communities\, they simply don't care about our local businesses and non-profits.\n\nIt just isn't right.At WhirLocal\, we're not a big tech media company. Our community-based website and technology might seem small at this point compared to the big national players\, but we work hard every day to have a big impact by connecting people to local places right in our backyard. Like you\, we live\, work\, shop\, and play in our community and we truly care about the success of our small businesses and non-profits.We like to say "We're Local & Proud Of It!"  \n\n\n\n\n\nWe invite you to network with fellow members and guests and be sure to bring plenty of business cards and a door prize for added exposure.\n\n\n\nFree networking event for members and guests. We welcome guests to attend up to two of our events before we ask that they join in order to continue to enjoy this popular benefit of membership with the Keizer Chamber.
X-ALT-DESC;FMTTYPE=text/html:<span style="font-size:14px\;"><span style="font-family:arial\;"><span style="font-size:22px\;"><strong>This week at Greeters\, our host is J Turner Solutions.</strong></span></span><br />\n<br />\n<span style="font-size:18px\;"><span style="background:white\;"><span style="color:black\;"><span style="font-family:arial\,sans-serif\;">Let&rsquo\;s face it\, small businesses in our community need our support more than ever. The problem is\, big box stores and corporate America are constantly trying to squeeze out the little guys.</span></span></span><br style="box-sizing:inherit\;font-variant-ligatures:common-ligatures\;" />\n<span style="font-variant-ligatures:common-ligatures\;">And\, while big tech platforms and media companies suck billions of dollars out of our local communities\, they simply don&rsquo\;t care about our local businesses and non-profits.</span><br style="box-sizing:inherit\;font-variant-ligatures:common-ligatures\;" />\n<span style="font-variant-ligatures:common-ligatures\;">It just isn&rsquo\;t right.</span><span style="font-variant-ligatures:common-ligatures\;">At WhirLocal\, we&rsquo\;re not a big tech media company. Our&nbsp\;</span><span style="font-variant-ligatures:common-ligatures\;">community-based website</span><span style="font-variant-ligatures:common-ligatures\;">&nbsp\;and technology might seem small at this point compared to the big national players\, but we work hard every day to have a big impact by connecting people to local places right in our backyard. Like you\, we live\, work\, shop\, and play in our community and we truly care about the success of our small businesses and non-profits.</span><span style="font-variant-ligatures:common-ligatures\;">We like to say &ldquo\;We&rsquo\;re Local &amp\; Proud Of It!&rdquo\; &trade\;</span><br />\n<br />\n<br />\n<span style="font-family:arial\;">We invite you to network with fellow members and guests and be sure to bring plenty of business cards and a door prize for added exposure.<br />\n<br />\nFree networking event for members and guests. We welcome guests to attend up to two of our events before we ask that they join in order to continue to enjoy this popular benefit of membership with the Keizer Chamber.</span></span></span>
LOCATION:The Rec 3500 River Rd N Keizer\, OR 97303
UID:e.63.28400
SEQUENCE:3
DTSTAMP:20260423T225220Z
URL:https://cm.keizerchamber.com/events/details/keizer-chamber-greeters-hosted-by-j-turner-solutions-28400
END:VEVENT

END:VCALENDAR
