BEGIN:VCALENDAR
VERSION:2.0
PRODID:-//ChamberMaster//Event Calendar 2.0//EN
METHOD:PUBLISH
X-PUBLISHED-TTL:P3D
REFRESH-INTERVAL:P3D
CALSCALE:GREGORIAN
BEGIN:VEVENT
DTSTART:20230926T153000Z
DTEND:20230926T163000Z
X-MICROSOFT-CDO-ALLDAYEVENT:FALSE
SUMMARY:Keizer Chamber Greeters Hosted By: Island Style Cryo & Beauty
DESCRIPTION:Keizer Chamber Greeters hosted by: Island Style Cryo & Beauty\n\n\n\nKyla and Alicia of Island Style Cryo & Beauty will be presenting Cryoskin.  We will get to see what it is\, how it works and discover the many benefits of it. They will be giving us some insight into who they are and why they do what they do.  Come and join us in welcoming them to the Keizer Chamber of Commerce family\n\n\n\nFree networking event for members and guests. We welcome guests to attend up to two of our events before we ask that they join in order to continue to enjoy this popular benefit of membership with the Keizer Chamber.
X-ALT-DESC;FMTTYPE=text/html:<span style="font-family: arial\;"><b style=""><span style="font-size: 18px\;">Keizer Chamber Greeters hosted by: Island Style Cryo &amp\; Beauty</span><br />\n<br />\nKyla and Alicia of Island Style Cryo &amp\; Beauty will be presenting Cryoskin.&nbsp\; We will get to see what it is\, how it works and discover the many benefits of it. They will be giving us some insight into who they are and why they do what they do.&nbsp\; Come and join us in welcoming them to the Keizer Chamber of Commerce family</b></span><br />\n<br />\n<span style="font-size:16px\;"><span style="font-family:arial\;">Free networking event for members and guests. We welcome guests to attend up to two of our events before we ask that they join in order to continue to enjoy this popular benefit of membership with the Keizer Chamber.</span></span>
LOCATION:The REC 3500 River Rd N Keizer\, OR 97303
UID:e.63.28381
SEQUENCE:3
DTSTAMP:20260424T031124Z
URL:https://cm.keizerchamber.com/events/details/keizer-chamber-greeters-hosted-by-island-style-cryo-beauty-28381
END:VEVENT

END:VCALENDAR
