BEGIN:VCALENDAR
VERSION:2.0
PRODID:-//ChamberMaster//Event Calendar 2.0//EN
METHOD:PUBLISH
X-PUBLISHED-TTL:P3D
REFRESH-INTERVAL:P3D
CALSCALE:GREGORIAN
BEGIN:VEVENT
DTSTART:20240507T153000Z
DTEND:20240507T163000Z
X-MICROSOFT-CDO-ALLDAYEVENT:FALSE
SUMMARY:Keizer Chamber Greeters Hosted By: Highway Fuel Co.
DESCRIPTION:This week at Greeters\, our host is Highway Fuel Co.\n\nJoin us at Highway Fuel to hear about their company\, history and the services they offer.\n\n\n\nFree networking event for members and guests. We welcome guests to attend up to two of our events before we ask that they join in order to continue to enjoy this popular benefit of membership with the Keizer Chamber.
X-ALT-DESC;FMTTYPE=text/html:<span style="font-size:14px\;"><span style="font-family:arial\;"><span style="font-size:18px\;"><strong>This week at Greeters\, our host is Highway Fuel Co.</strong></span><br />\nJoin us at Highway Fuel to hear about their company\, history and the services they offer.</span></span><br />\n<br />\n<span style="font-size:14px\;"><span style="font-family:arial\;">Free networking event for members and guests. We welcome guests to attend up to two of our events before we ask that they join in order to continue to enjoy this popular benefit of membership with the Keizer Chamber.</span></span>
LOCATION:The REC 3500 River Rd N
UID:e.63.28613
SEQUENCE:3
DTSTAMP:20260424T073010Z
URL:https://cm.keizerchamber.com/events/details/keizer-chamber-greeters-hosted-by-highway-fuel-co-28613
END:VEVENT

END:VCALENDAR
