BEGIN:VCALENDAR
VERSION:2.0
PRODID:-//ChamberMaster//Event Calendar 2.0//EN
METHOD:PUBLISH
X-PUBLISHED-TTL:P3D
REFRESH-INTERVAL:P3D
CALSCALE:GREGORIAN
BEGIN:VEVENT
DTSTART:20240130T163000Z
DTEND:20240130T173000Z
X-MICROSOFT-CDO-ALLDAYEVENT:FALSE
SUMMARY:Keizer Chamber Greeters hosted by: Accident Care Chiropractic & Massage
DESCRIPTION:Join us as Estefania introduces us to Accident Care Chiropractic and Massage and the services that they provide\, with an emphasis on car accidents and work injuries. She will give us her background on how she started working with Accident Care and how she became the owner of two of their 18 locations. \n\n\n\nJoin us to network with fellow members and guests and be sure to bring plenty of business cards and a door prize for added exposure.\n\n\n\nFree networking event for members and guests. We welcome guests to attend up to two of our events before we ask that they join in order to continue to enjoy this popular benefit of membership with the Keizer Chamber.
X-ALT-DESC;FMTTYPE=text/html:<font color="#1d2129" face="Helvetica\, Arial\, sans-serif"><span style="font-size: 14px\; white-space-collapse: preserve\;"><span style="font-size:16px\;">Join us as Estefania introduces us to Accident Care Chiropractic and Massage and the services that they provide\, with an emphasis on car accidents and work injuries. She will give us her background on how she started working with Accident Care and how she became the owner of two of their 18 locations. </span></span></font><br style="color: rgb(29\, 33\, 41)\; font-family: Helvetica\, Arial\, sans-serif\; font-size: 14px\; white-space: pre-wrap\;" />\n<br style="color: rgb(29\, 33\, 41)\; font-family: Helvetica\, Arial\, sans-serif\; font-size: 14px\; white-space: pre-wrap\;" />\n<span style="font-size:16px\;"><span style="color: rgb(29\, 33\, 41)\; font-family: Helvetica\, Arial\, sans-serif\; white-space: pre-wrap\;">Join us to network with fellow members and guests and be sure to bring plenty of business cards and a door prize for added exposure.</span><br style="color: rgb(29\, 33\, 41)\; font-family: Helvetica\, Arial\, sans-serif\; font-size: 14px\; white-space: pre-wrap\;" />\n<br style="color: rgb(29\, 33\, 41)\; font-family: Helvetica\, Arial\, sans-serif\; font-size: 14px\; white-space: pre-wrap\;" />\n<span style="color: rgb(29\, 33\, 41)\; font-family: Helvetica\, Arial\, sans-serif\; white-space: pre-wrap\;">Free networking event for members and guests. We welcome guests to attend up to two of our events before we ask that they join in order to continue to enjoy this popular benefit of membership with the Keizer Chamber.</span></span>
LOCATION:The REC 3500 River Rd N Keizer\, OR 97303
UID:e.63.28561
SEQUENCE:3
DTSTAMP:20260424T031117Z
URL:https://cm.keizerchamber.com/events/details/keizer-chamber-greeters-hosted-by-accident-care-chiropractic-massage-28561
END:VEVENT

END:VCALENDAR
