BEGIN:VCALENDAR
VERSION:2.0
PRODID:-//ChamberMaster//Event Calendar 2.0//EN
METHOD:PUBLISH
X-PUBLISHED-TTL:P3D
REFRESH-INTERVAL:P3D
CALSCALE:GREGORIAN
BEGIN:VEVENT
DTSTART:20231107T220000Z
DTEND:20231108T000000Z
X-MICROSOFT-CDO-ALLDAYEVENT:FALSE
SUMMARY:Karaoke at K/SAS
DESCRIPTION:Karaoke fun with Bonnie and Steve. light refreshments.
X-ALT-DESC;FMTTYPE=text/html:Karaoke fun with Bonnie and Steve. light refreshments.
LOCATION:Keizer/Salem Area Senior Center 930 Plymouth DR NE Keizer\, OR 9\\303
UID:e.63.28461
SEQUENCE:3
DTSTAMP:20260423T225139Z
URL:https://cm.keizerchamber.com/events/details/karaoke-at-k-sas-28461
END:VEVENT

END:VCALENDAR
