BEGIN:VCALENDAR
VERSION:2.0
PRODID:-//ChamberMaster//Event Calendar 2.0//EN
METHOD:PUBLISH
X-PUBLISHED-TTL:P3D
REFRESH-INTERVAL:P3D
CALSCALE:GREGORIAN
BEGIN:VEVENT
DTSTART:20230902T150000Z
DTEND:20230902T170000Z
X-MICROSOFT-CDO-ALLDAYEVENT:FALSE
SUMMARY:K/SAS Pancake Breakfast
DESCRIPTION:Pancake Breakfast. Scrambled Eggs\, Ham or Sausage and All you can eat pancakes.
X-ALT-DESC;FMTTYPE=text/html:<span style="font-size:18px\;">Pancake Breakfast. Scrambled Eggs\, Ham or Sausage and All you can eat pancakes.</span>
LOCATION:Keizer/Salem Senior Center 30 Plymouth DR NE Keizer\, OR 97303
UID:e.63.28363
SEQUENCE:3
DTSTAMP:20260424T014415Z
URL:https://cm.keizerchamber.com/events/details/k-sas-pancake-breakfast-09-02-2023-28363
END:VEVENT

END:VCALENDAR
