BEGIN:VCALENDAR
VERSION:2.0
PRODID:-//ChamberMaster//Event Calendar 2.0//EN
METHOD:PUBLISH
X-PUBLISHED-TTL:P3D
REFRESH-INTERVAL:P3D
CALSCALE:GREGORIAN
BEGIN:VEVENT
DTSTART:20230910T210000Z
DTEND:20230910T230000Z
X-MICROSOFT-CDO-ALLDAYEVENT:FALSE
SUMMARY:K/SAS Dance Lee Nicholas & Diane
DESCRIPTION:Dance with Fellowship and light refreshments.
X-ALT-DESC;FMTTYPE=text/html:<span style="font-size:20px\;">Dance with Fellowship and light refreshments.</span>
LOCATION:Keizer/Salem Senior Center 930 Plymouth DR NE Keizer\, OR 97303
UID:e.63.28366
SEQUENCE:3
DTSTAMP:20260424T014526Z
URL:https://cm.keizerchamber.com/events/details/k-sas-dance-lee-nicholas-diane-09-10-2023-28366
END:VEVENT

END:VCALENDAR
