BEGIN:VCALENDAR
VERSION:2.0
PRODID:-//ChamberMaster//Event Calendar 2.0//EN
METHOD:PUBLISH
X-PUBLISHED-TTL:P3D
REFRESH-INTERVAL:P3D
CALSCALE:GREGORIAN
BEGIN:VEVENT
DTSTART:20230917T020000Z
DTEND:20230917T050000Z
X-MICROSOFT-CDO-ALLDAYEVENT:FALSE
SUMMARY:K/SAS Dance Jefferson Parks
DESCRIPTION:Dance with fellowship and light refreshments.\n\nPizza and soda for sale while supplies last.-prices to be announced.
X-ALT-DESC;FMTTYPE=text/html:<span style="font-size:20px\;">Dance with fellowship and light refreshments.<br />\nPizza and soda for sale while supplies last.-prices to be announced.</span>
LOCATION:Keizer/Salem Senior Center 930 Plymouth DR NE Keizer\, OR 97303
UID:e.63.28367
SEQUENCE:3
DTSTAMP:20260424T014526Z
URL:https://cm.keizerchamber.com/events/details/k-sas-dance-jefferson-parks-09-16-2023-28367
END:VEVENT

END:VCALENDAR
