BEGIN:VCALENDAR
VERSION:2.0
PRODID:-//ChamberMaster//Event Calendar 2.0//EN
METHOD:PUBLISH
X-PUBLISHED-TTL:P3D
REFRESH-INTERVAL:P3D
CALSCALE:GREGORIAN
BEGIN:VEVENT
DTSTART:20230903T020000Z
DTEND:20230903T050000Z
X-MICROSOFT-CDO-ALLDAYEVENT:FALSE
SUMMARY:K/SAS Dance Crossfire
DESCRIPTION:Dance and Fellowship with light refreshments.
X-ALT-DESC;FMTTYPE=text/html:<span style="font-size:20px\;">Dance and Fellowship with light refreshments.</span>
LOCATION:Keizer/Salem Senior Center 930 Plymouth DR NE Keizer\, OR 97303
UID:e.63.28364
SEQUENCE:3
DTSTAMP:20260424T014025Z
URL:https://cm.keizerchamber.com/events/details/k-sas-dance-crossfire-28364
END:VEVENT

END:VCALENDAR
