BEGIN:VCALENDAR
VERSION:2.0
PRODID:-//ChamberMaster//Event Calendar 2.0//EN
METHOD:PUBLISH
X-PUBLISHED-TTL:P3D
REFRESH-INTERVAL:P3D
CALSCALE:GREGORIAN
BEGIN:VEVENT
DTSTART:20100716T233000Z
DTEND:20100717T023000Z
X-MICROSOFT-CDO-ALLDAYEVENT:FALSE
SUMMARY:Jazz in the Amp - A Good Vibrations Welcome Event
DESCRIPTION:Enjoy the music from Grand Jazz Band at the Keizer Rotary Amphitheater. Relax and take in the magistic view of the old growth backdrop while sampeling NW Wines and Brews.
X-ALT-DESC;FMTTYPE=text/html:<div>Enjoy the music from Grand Jazz Band at the Keizer Rotary Amphitheater. Relax and take in the magistic view of the old growth backdrop while sampeling NW Wines and Brews.</div>
LOCATION:Turn west towards the Willamette River on Chemawa Road in Keizer for about a mile. The Amphitheater is located at Keizer Rapids Park on the left near the road's end. Parking is past the fenced dog parks.
UID:e.63.2356
SEQUENCE:3
DTSTAMP:20260421T190741Z
URL:https://cm.keizerchamber.com/events/details/jazz-in-the-amp-a-good-vibrations-welcome-event-07-16-2010-2356
END:VEVENT

END:VCALENDAR
