BEGIN:VCALENDAR
VERSION:2.0
PRODID:-//ChamberMaster//Event Calendar 2.0//EN
METHOD:PUBLISH
X-PUBLISHED-TTL:P3D
REFRESH-INTERVAL:P3D
CALSCALE:GREGORIAN
BEGIN:VEVENT
DTSTART:20230922T220000Z
DTEND:20230923T020000Z
X-MICROSOFT-CDO-ALLDAYEVENT:FALSE
SUMMARY:Jackson's Body Shop-65 year Anniversary Celebratory Open House
DESCRIPTION:PRESS RELEASE\n\nApril 13\, 2023 SALEM\, OR   To mark our milestone of 65 years in business serving the Salem-Keizer community and surrounding areas\, Jackson's Body Shop will be hosting a celebratory open-house on Friday\, Sept 22\, 2023. The festivities will start at 3 p.m. and take place at the shop\, 3353 Silverton Rd NE in Salem. Appetizers and refreshments will be served.\n\n\n\nJackson's Body Shop is also proud to announce in May 2023\, third-generation owner Larry Jackson will become the sole shareholder. He became a half shareholder in 1998 with cousin Jerry Jackson. Larry has worked at the shop since the early 1980s.\n\n\n\nLarry credits the shop's continual success to various factors. He explains\, "It's really about everyone   generations of family members who have worked here\, our dedicated employees\, important partnerships with businesses and organizations   most importantly integrity and the commitment to our customers."\n\n\n\nUnder Larry's ownership tenure\, the shop has continued its tradition of giving back to the community. Our sponsorships\, donations and volunteerism have benefited numerous youth sports leagues\, Boys & Girls Club\, several Salem-Keizer high schools\, Keizer Network of Women and the chambers of commerce in both Salem and Keizer.\n\n\n\nLarry Jackson is a lifelong resident of Keizer.
X-ALT-DESC;FMTTYPE=text/html:<strong>PRESS RELEASE</strong><br />\nApril 13\, 2023 SALEM\, OR &mdash\; To mark our milestone of 65 years in business serving the Salem-Keizer community and surrounding areas\, Jackson&rsquo\;s Body Shop will be hosting a celebratory open-house on Friday\, Sept 22\, 2023. The festivities will start at 3 p.m. and take place at the shop\, 3353 Silverton Rd NE in Salem. Appetizers and refreshments will be served.<br />\n<br />\nJackson&rsquo\;s Body Shop is also proud to announce in May 2023\, third-generation owner Larry Jackson will become the sole shareholder. He became a half shareholder in 1998 with cousin Jerry Jackson. Larry has worked at the shop since the early 1980s.<br />\n<br />\nLarry credits the shop&rsquo\;s continual success to various factors. He explains\, &ldquo\;It&rsquo\;s really about everyone &mdash\; generations of family members who have worked here\, our dedicated employees\, important partnerships with businesses and organizations &mdash\; most importantly integrity and the commitment to our customers.&rdquo\;<br />\n<br />\nUnder Larry&rsquo\;s ownership tenure\, the shop has continued its tradition of giving back to the community. Our sponsorships\, donations and volunteerism have benefited numerous youth sports leagues\, Boys &amp\; Girls Club\, several Salem-Keizer high schools\, Keizer Network of Women and the chambers of commerce in both Salem and Keizer.<br />\n<br />\nLarry Jackson is a lifelong resident of Keizer.
LOCATION:Jackson's Body Shop 3353 Silverton Rd NE Salem\, Or
UID:e.63.28225
SEQUENCE:3
DTSTAMP:20260424T014533Z
URL:https://cm.keizerchamber.com/events/details/jackson-s-body-shop-65-year-anniversary-celebratory-open-house-28225
END:VEVENT

END:VCALENDAR
