BEGIN:VCALENDAR
VERSION:2.0
PRODID:-//ChamberMaster//Event Calendar 2.0//EN
METHOD:PUBLISH
X-PUBLISHED-TTL:P3D
REFRESH-INTERVAL:P3D
CALSCALE:GREGORIAN
BEGIN:VEVENT
DTSTART:20080516T180000Z
DTEND:20080517T000000Z
X-MICROSOFT-CDO-ALLDAYEVENT:FALSE
SUMMARY:Iris Festival Golf Tournament
DESCRIPTION:Annual Keizer Iris Festival Golf Tournament Come play a fun scramble at McNary Golf Course.Tom Dieker is organizing another spectacular event this year!!
X-ALT-DESC;FMTTYPE=text/html:<div><font face="Verdana" size="3"><strong>Annual Keizer Iris Festival Golf Tournament</strong></font></div><div>&nbsp\;</div><div><font face="Verdana" size="2">Come play a fun scramble at McNary Golf Course.</font></div><div><font face="Verdana" size="2">Tom Dieker is organizing another spectacular event this year!!</font></div>
LOCATION:McNary Golf Coursein Keizer
UID:e.63.1704
SEQUENCE:3
DTSTAMP:20260423T085717Z
URL:https://cm.keizerchamber.com/events/details/iris-festival-golf-tournament-05-16-2008-1704
END:VEVENT

END:VCALENDAR
