BEGIN:VCALENDAR
VERSION:2.0
PRODID:-//ChamberMaster//Event Calendar 2.0//EN
METHOD:PUBLISH
X-PUBLISHED-TTL:P3D
REFRESH-INTERVAL:P3D
CALSCALE:GREGORIAN
BEGIN:VEVENT
DTSTART:20090515T000000Z
DTEND:20090515T050000Z
X-MICROSOFT-CDO-ALLDAYEVENT:FALSE
SUMMARY:Iris Fest Kick-Off Party
DESCRIPTION:Iris Festival Kick-Off Party Sponsored by Fidelity National Title. Join us in the Big Tent on Thursday May 14th for a BBQ Chicken Dinner\, provided by Roth's Fresh Market from 5:00-8:00pm. There will be kids entertainment from 5:00-7:00pm and Schwing Daddies will be performing from 7:00-10:00 pm. Kids are allowed in the big tent up till 9:00 pm\, after that 21 years and over only. Register and pay online from this invitation by Tuesday May 12th\, or pay at the door. We'll see you there!
X-ALT-DESC;FMTTYPE=text/html:<div>Iris Festival Kick-Off Party Sponsored by Fidelity National Title.</div><div>&nbsp\;</div><div>Join us in the Big Tent on Thursday May 14th for a BBQ Chicken Dinner\, provided by Roth&rsquo\;s Fresh Market from 5:00-8:00pm. There will be kids entertainment from 5:00-7:00pm and Schwing Daddies will be performing from 7:00-10:00 pm.</div><div>&nbsp\;</div><div>Kids are allowed in the big tent up till 9:00 pm\, after that 21 years and over only.</div><div>&nbsp\;</div><div>Register and pay online from this invitation by Tuesday May 12th\, or pay at the door. We&rsquo\;ll see you there!</div>
LOCATION:Big TentKeizer Station Blvd (next to Bed\, Bath & Beyond)Keizer\, Oregon
UID:e.63.1946
SEQUENCE:3
DTSTAMP:20260422T152018Z
URL:https://cm.keizerchamber.com/events/details/iris-fest-kick-off-party-05-14-2009-1946
END:VEVENT

END:VCALENDAR
