BEGIN:VCALENDAR
VERSION:2.0
PRODID:-//ChamberMaster//Event Calendar 2.0//EN
METHOD:PUBLISH
X-PUBLISHED-TTL:P3D
REFRESH-INTERVAL:P3D
CALSCALE:GREGORIAN
BEGIN:VEVENT
DTSTART:20240125T020000Z
DTEND:20240125T030000Z
X-MICROSOFT-CDO-ALLDAYEVENT:FALSE
SUMMARY:Hospitality Committee Meeting
DESCRIPTION:Interested in seeing plays for free or just supporting our community theater? Come to our hospitality meeting to learn how you can get involved!\n\n\n\nSnacks provided.
X-ALT-DESC;FMTTYPE=text/html:<span style="font-size:16px\;">Interested in seeing plays for free or just supporting our community theater? Come to our hospitality meeting to learn how you can get involved!<br />\n<br />\nSnacks provided.</span>
LOCATION:Keizer Cultural Center 980 Chemawa Rd NE Keizer\, OR 97303
UID:e.63.28562
SEQUENCE:3
DTSTAMP:20260424T030945Z
URL:https://cm.keizerchamber.com/events/details/hospitality-committee-meeting-28562
END:VEVENT

END:VCALENDAR
