BEGIN:VCALENDAR
VERSION:2.0
PRODID:-//ChamberMaster//Event Calendar 2.0//EN
METHOD:PUBLISH
X-PUBLISHED-TTL:P3D
REFRESH-INTERVAL:P3D
CALSCALE:GREGORIAN
BEGIN:VEVENT
DTSTART:20081203T023000Z
DTEND:20081203T033000Z
X-MICROSOFT-CDO-ALLDAYEVENT:FALSE
SUMMARY:Holiday Tree Lighting Ceremony sponsored by Wells Fargo Bank
DESCRIPTION:Come one come all to our Holiday Tree Lighting Ceremony\, brought to us by Wells Fargo Bank! We will be lighting the Big Tree\, on the corner of River Rd & Cherry Ave\, so bring the family. There will be caroling\, hot cider and cookies\, and best of all Santa will be paying us a visit! We hope to see you there!
X-ALT-DESC;FMTTYPE=text/html:<div>Come one come all to our Holiday Tree Lighting Ceremony\, brought to us by Wells Fargo Bank!</div><div>&nbsp\;</div><div>We will be lighting the Big Tree\, on the corner of River Rd &amp\; Cherry Ave\, so bring the family. There will be caroling\, hot&nbsp\;cider and cookies\, and best of all Santa will be paying us a visit!</div><div>&nbsp\;</div><div>We hope to see you there! &nbsp\;</div>
LOCATION:Corner of River Rd & Cherry Ave.
UID:e.63.1769
SEQUENCE:3
DTSTAMP:20260422T221708Z
URL:https://cm.keizerchamber.com/events/details/holiday-tree-lighting-ceremony-sponsored-by-wells-fargo-bank-12-02-2008-1769
END:VEVENT

END:VCALENDAR
