BEGIN:VCALENDAR
VERSION:2.0
PRODID:-//ChamberMaster//Event Calendar 2.0//EN
METHOD:PUBLISH
X-PUBLISHED-TTL:P3D
REFRESH-INTERVAL:P3D
CALSCALE:GREGORIAN
BEGIN:VEVENT
DTSTART:20100630T223000Z
DTEND:20100701T021500Z
X-MICROSOFT-CDO-ALLDAYEVENT:FALSE
SUMMARY:Hawaiian Luau & Tour of Homes
DESCRIPTION:Hawaiian Luau and Tour of McNary Estates Homes presented by OSU Federal Your Community Credit Union & Legacy Real Estate. OSU Federal and Legacy Real Estate host a Chamber Business After Hours event from 3:00 pm - 7:15 pm on the patio of Tuff Ranch BBQ. Join us for no-host cocktails\, a pig roast\, entertainment and great raffle prizes. Visit and tour an optional 19 homes at McNary Estates to enter into the prize drawings. This special event is open to the public. You won't want to miss out on all the fun! We hope to see you there!
X-ALT-DESC;FMTTYPE=text/html:<div>Hawaiian Luau and Tour of McNary Estates Homes presented by OSU&nbsp\;Federal Your Community Credit Union &amp\;&nbsp\;Legacy Real Estate.</div><div>&nbsp\;</div><div>OSU&nbsp\;Federal and Legacy Real Estate host a Chamber&nbsp\;Business After Hours event from 3:00 pm - 7:15 pm on the patio of Tuff Ranch BBQ. Join us for no-host cocktails\, a pig roast\, entertainment and great raffle prizes. Visit and tour&nbsp\;an optional 19 homes at McNary Estates to enter into the prize drawings. This special event is open to the public.</div><div>&nbsp\;</div><div>You&nbsp\;won&rsquo\;t want to miss out on all the fun! We hope to see you there!</div><div>&nbsp\;</div><div>&nbsp\;</div>
LOCATION:Tuff Ranch BBQ165 McNary Estates Dr NKeizer Oregon
UID:e.63.2350
SEQUENCE:3
DTSTAMP:20260421T202154Z
URL:https://cm.keizerchamber.com/events/details/hawaiian-luau-tour-of-homes-06-30-2010-2350
END:VEVENT

END:VCALENDAR
