BEGIN:VCALENDAR
VERSION:2.0
PRODID:-//ChamberMaster//Event Calendar 2.0//EN
METHOD:PUBLISH
X-PUBLISHED-TTL:P3D
REFRESH-INTERVAL:P3D
CALSCALE:GREGORIAN
BEGIN:VEVENT
DTSTART:20090527T150000Z
DTEND:20090527T160000Z
X-MICROSOFT-CDO-ALLDAYEVENT:FALSE
SUMMARY:Greeters Networking
DESCRIPTION:Greeters Networking hosted by Adelman Peony Gardens.Join the staff at Adelman's while they share information about their beautiful gardens. Come visit and meet fellow Chamber members\, talk about your business and make some valuable connections.A different business hosts Greeters every month\, so bring plenty of business cards and get ready to do some networking.
X-ALT-DESC;FMTTYPE=text/html:<p>Greeters Networking hosted by Adelman Peony Gardens.</p><p>Join the staff at Adelman's&nbsp\;while they share information about their beautiful gardens. Come&nbsp\;visit and meet fellow Chamber&nbsp\;members\, talk about your business and make some valuable connections.</p><p>A different business hosts Greeters every month\, so bring plenty of business cards and get ready to do some networking.</p>
LOCATION:Adelman Peony Gardens5690 Brooklake Rd NESalem\, Oregon
UID:e.63.1956
SEQUENCE:3
DTSTAMP:20260421T084757Z
URL:https://cm.keizerchamber.com/events/details/greeters-networking-05-27-2009-1956
END:VEVENT

END:VCALENDAR
