BEGIN:VCALENDAR
VERSION:2.0
PRODID:-//ChamberMaster//Event Calendar 2.0//EN
METHOD:PUBLISH
X-PUBLISHED-TTL:P3D
REFRESH-INTERVAL:P3D
CALSCALE:GREGORIAN
BEGIN:VEVENT
DTSTART:20090429T150000Z
DTEND:20090429T160000Z
X-MICROSOFT-CDO-ALLDAYEVENT:FALSE
SUMMARY:Greeters Networking
DESCRIPTION:Greeters Networking hosted by Willamette Valley Bank.Join the staff at Willamette Valley Bank while they share information about their business and services. Come visit and meet fellow Chamber members\, talk about your business and make some valuable connections.A different business hosts Greeters every month\, so bring plenty of business cards and get ready to do some networking.
X-ALT-DESC;FMTTYPE=text/html:<p>Greeters Networking hosted by Willamette Valley Bank.</p><p>Join the staff at&nbsp\;Willamette Valley Bank&nbsp\;while they share information about their business and services. Come&nbsp\;visit and meet fellow Chamber&nbsp\;members\, talk about your business and make some valuable connections.</p><p>A different business hosts Greeters every month\, so bring plenty of business cards and get ready to do some networking.</p>
LOCATION:Willamette Valley Bank5740 River Rd NKeizer\, Oregon
UID:e.63.1943
SEQUENCE:3
DTSTAMP:20260421T084608Z
URL:https://cm.keizerchamber.com/events/details/greeters-networking-04-29-2009-1943
END:VEVENT

END:VCALENDAR
