BEGIN:VCALENDAR
VERSION:2.0
PRODID:-//ChamberMaster//Event Calendar 2.0//EN
METHOD:PUBLISH
X-PUBLISHED-TTL:P3D
REFRESH-INTERVAL:P3D
CALSCALE:GREGORIAN
BEGIN:VEVENT
DTSTART:20070412T190000Z
DTEND:20070413T000000Z
X-MICROSOFT-CDO-ALLDAYEVENT:FALSE
SUMMARY:Grand Opening Ribbon Cutting-Massage Envy
DESCRIPTION:Massage Envy\, a new Chamber Member is having a Grand Opening & Ribbon Cutting on April 12th at their brand new location in Keizer Station. \n\nThe festivities begin at noon with a grand opening\, come by and tour their wonderful facility\, meet the staff and enjoy some cake and punch. At 4:30 finish off with a Ribbon Cutting ceremony with the Chamber of Commerce staff and Chamber members.
X-ALT-DESC;FMTTYPE=text/html:Massage Envy\, a new Chamber Member is having a Grand Opening &amp\; Ribbon Cutting on April 12th at their brand new location in Keizer Station.&nbsp\;<br /><br />The festivities begin at noon with a grand opening\, come by and tour their wonderful facility\, meet the staff and enjoy some cake and punch. At 4:30 finish off with a Ribbon Cutting ceremony with the Chamber of&nbsp\;Commerce staff and Chamber members. &nbsp\;
LOCATION:Massage Envy 6395 Keizer Station Blvd Keizer\, OR.
UID:e.63.1269
SEQUENCE:3
DTSTAMP:20260421T143418Z
URL:https://cm.keizerchamber.com/events/details/grand-opening-ribbon-cutting-massage-envy-04-12-2007-1269
END:VEVENT

END:VCALENDAR
