BEGIN:VCALENDAR
VERSION:2.0
PRODID:-//ChamberMaster//Event Calendar 2.0//EN
METHOD:PUBLISH
X-PUBLISHED-TTL:P3D
REFRESH-INTERVAL:P3D
CALSCALE:GREGORIAN
BEGIN:VEVENT
DTSTART:20230920T190000Z
DTEND:20230920T200000Z
X-MICROSOFT-CDO-ALLDAYEVENT:FALSE
SUMMARY:Government Affairs Committee
DESCRIPTION:Our guest speaker this month is Keizer Fire Chief\, Ryan Russell who will be discussing the fire levy and what that means for Keizer.\n\n\n\nJoin us as we discuss the different pending governmental affairs of the day and how they will or might affect the members of the Keizer Chamber of Commerce. The topic is different every month and ranges from policy discussions to the impact of tax levies or legislation pending or recently passed.
X-ALT-DESC;FMTTYPE=text/html:<div style="text-align: justify\;"><span style="font-size:14px\;"><span style="font-family:verdana\;"><span style="line-height: 16.64px\;">Our guest speaker this month is Keizer Fire Chief\, Ryan Russell who will be discussing the fire levy and what that means for Keizer.<br />\n<br />\nJoin us as we discuss the different pending governmental affairs of the day and how they will or might affect the members of the Keizer Chamber of Commerce. The topic is different every month and ranges from policy discussions to the impact of tax levies or legislation pending or recently passed.</span></span></span></div>\n
LOCATION:Keizer Fire Department 661 Chemawa Rd NE Keizer\, OR 97303
UID:e.63.20243
SEQUENCE:3
DTSTAMP:20260424T031313Z
URL:https://cm.keizerchamber.com/events/details/government-affairs-committee-and-past-presidents-09-20-2023-20243
END:VEVENT

END:VCALENDAR
