BEGIN:VCALENDAR
VERSION:2.0
PRODID:-//ChamberMaster//Event Calendar 2.0//EN
METHOD:PUBLISH
X-PUBLISHED-TTL:P3D
REFRESH-INTERVAL:P3D
CALSCALE:GREGORIAN
BEGIN:VEVENT
DTSTART:20230923T193000Z
DTEND:20230924T010000Z
X-MICROSOFT-CDO-ALLDAYEVENT:FALSE
SUMMARY:Golf For Hope Tournament
DESCRIPTION:4th Annual Golf for Hope Tournament\n\nWe are excited to host our 4th annual golf tournament at McNary Golf course. This event helps Acres of Hope Youth Ranch to raise funds and spread awareness so we can keep our sessions offered at no cost to the families we serve. AOH serves hurting and traumatized youth through working with horses\, quality long term mentorship and prayer. \n\n\n\nFor the benefit of hurting teens
X-ALT-DESC;FMTTYPE=text/html:4th Annual Golf for Hope Tournament<br />\n<span style="font-family:calibri\,sans-serif\;"><span style="font-size:11.0pt\;">We are excited to host our 4th annual golf tournament at McNary Golf course. This event helps Acres of Hope Youth Ranch to raise funds and spread awareness so we can keep our sessions offered at no cost to the families we serve. AOH serves hurting and traumatized youth through working with horses\, quality long term mentorship and prayer.&nbsp\;</span></span><br />\n<br />\nFor the benefit of hurting teens
LOCATION:McNary Golf Course
UID:e.63.28372
SEQUENCE:3
DTSTAMP:20260424T014018Z
URL:https://cm.keizerchamber.com/events/details/golf-for-hope-tournament-28372
END:VEVENT

END:VCALENDAR
