BEGIN:VCALENDAR
VERSION:2.0
PRODID:-//ChamberMaster//Event Calendar 2.0//EN
METHOD:PUBLISH
X-PUBLISHED-TTL:P3D
REFRESH-INTERVAL:P3D
CALSCALE:GREGORIAN
BEGIN:VEVENT
DTSTART:20080906T003000Z
DTEND:20080906T003000Z
X-MICROSOFT-CDO-ALLDAYEVENT:FALSE
SUMMARY:Golf Classic After Party
DESCRIPTION:Business to Business Fall Golf Classic AFTER PARTY! Presented by Willamette Valley BankJoin us on Friday September 5th at McNary Golf Club for some fun and excitement. If you were unable to play on a team\, have no fear...you can still get in on some fun. We will have a 50/50 Golf Ball Drop to participate in or watch. Come by and purchase some balls and enter in a chance to win some $$$$\, or just come by and watch.Golf balls will be dropped from a boom lift (provided by Hertz Equipment Rental) and the ball that falls closest to the pin wins 50% of the pot! Afterwards join the networking fun and entertainment in the Lounge and/or applaud the winning Golf Team at the Awards Banquet. You may come and watch or have dinner. (dinner requires an RSVP by September 3rd\, as well as your meal selection of either Ribeye Steak or Teriyaki Chicken) Don't miss the fun!1 Golf Ball Drop Ticket (Includes beverage) $58 Golf Ball Drop Tickets (Includes beverage) $20Banquet Dinner & 1 Golf Ball Drop Ticket (Includes beverage) $22Banquet Dinner & 8 Golf Ball Drop Tickets (Includes beverage) $37
X-ALT-DESC;FMTTYPE=text/html:<p>Business to Business Fall Golf Classic AFTER PARTY!</p><p>&nbsp\;Presented by Willamette Valley Bank</p><p>Join us on Friday September 5th at McNary Golf Club for some fun and excitement. If you were unable to play on a team\, have no fear...you can still get in on some fun. We will have a 50/50 Golf Ball Drop to participate in or watch. Come by and purchase some balls and enter in a chance to win some $$$$\, or just come by and watch.</p><p>Golf balls will be dropped from a boom lift (provided by Hertz Equipment Rental) and the ball that falls closest to the pin wins 50% of the pot! Afterwards join the networking fun and entertainment in the Lounge and/or applaud the winning Golf Team at the Awards Banquet. You may come and watch or have dinner. (dinner requires an RSVP by September 3rd\, as well as your meal selection of either Ribeye Steak or Teriyaki Chicken) Don&rsquo\;t miss the fun!</p><p>1 Golf Ball Drop Ticket (Includes&nbsp\;beverage) $5</p><p>8 Golf Ball Drop Tickets (Includes beverage) $20</p><p>Banquet Dinner &amp\; 1 Golf Ball Drop Ticket (Includes beverage) $22</p><p>Banquet Dinner &amp\; 8 Golf Ball Drop Tickets (Includes beverage) $37</p>
LOCATION:McNary Golf Course155 McNary Estates DrKeizer\, Oregon
UID:e.63.1749
SEQUENCE:3
DTSTAMP:20260423T025938Z
URL:https://cm.keizerchamber.com/events/details/golf-classic-after-party-09-05-2008-1749
END:VEVENT

END:VCALENDAR
