BEGIN:VCALENDAR
VERSION:2.0
PRODID:-//ChamberMaster//Event Calendar 2.0//EN
METHOD:PUBLISH
X-PUBLISHED-TTL:P3D
REFRESH-INTERVAL:P3D
CALSCALE:GREGORIAN
BEGIN:VEVENT
DTSTART:20100207T013000Z
DTEND:20100206T090000Z
X-MICROSOFT-CDO-ALLDAYEVENT:FALSE
SUMMARY:First Citizens Banquet
DESCRIPTION:Keizer's First Citizens Award Banquet and After Party! Don't miss this wonderful evening of elegance\, celebrating Keizer Chamber's 51st Annual First Citizens Banquet\, Honoring Pillars of the Community! Social hour begins at 5:30 pm with a Prime Rib dinner and awards at 7:00 pm There will be Las Vegas style entertainment you won't want to miss.  We hope to see you there!
X-ALT-DESC;FMTTYPE=text/html:<div>Keizer&rsquo\;s First Citizens Award Banquet and After Party!</div><div>&nbsp\;</div><div>Don&rsquo\;t miss this wonderful evening of elegance\, celebrating Keizer Chamber&rsquo\;s <span style="font-weight: bold">51st Annual First Citizens Banquet</span>\, Honoring Pillars of the Community!</div><div>&nbsp\;</div><div>Social hour begins at&nbsp\;5:30 pm with a Prime Rib dinner and awards at 7:00 pm There will be Las Vegas style entertainment you won't want to miss.</div><div>&nbsp\;&nbsp\;</div><div>We hope to see you there!</div>
LOCATION:Keizer Civic Center930 Chemawa Rd NEKeizer\, Oregon
UID:e.63.2287
SEQUENCE:3
DTSTAMP:20260422T021904Z
URL:https://cm.keizerchamber.com/events/details/first-citizens-banquet-02-06-2010-2287
END:VEVENT

END:VCALENDAR
