BEGIN:VCALENDAR
VERSION:2.0
PRODID:-//ChamberMaster//Event Calendar 2.0//EN
METHOD:PUBLISH
X-PUBLISHED-TTL:P3D
REFRESH-INTERVAL:P3D
CALSCALE:GREGORIAN
BEGIN:VEVENT
DTSTART:20090118T020000Z
DTEND:20090118T060000Z
X-MICROSOFT-CDO-ALLDAYEVENT:FALSE
SUMMARY:First Citizens Banquet
DESCRIPTION:Good Afternoon Chamber Members. If you haven't RSVP'd for our annual First Citizens Banquet coming up this Saturday the 17th\, here is another chance! Save time by clicking on the "register online" link below and you can register and pay at the same time. Don't miss this wonderful evening of elegance\, celebrating Keizer Chamber's 50th Annual First Citizens Banquet\, Honoring Pillars of the Community! Social hour begins at 6:00 pm with dinner and awards at 7:00 pm Meal options: Beef: Top Sirloin with hunter mushroom sauceChicken: Chicken Cordon Blue with bernaise cream sauceVegetarian: Fettuccini with pesto and grilled vegetables Please remember to call the Chamber with your meal selection or email at paula@keizerchamber.com We hope to see you there!
X-ALT-DESC;FMTTYPE=text/html:<div>Good Afternoon Chamber Members. If you haven't RSVP'd for our annual First Citizens Banquet coming up this Saturday the 17th\, here is another chance!</div><div>&nbsp\;</div><div>Save time by&nbsp\;clicking on the &quot\;register online&quot\; link below and you can register and pay at the same time.</div><div>&nbsp\;</div><div>Don't miss this wonderful evening of elegance\, celebrating Keizer Chamber's <span style="font-weight: bold">50th Annual First Citizens Banquet</span>\, Honoring Pillars of the Community!</div><div>&nbsp\;</div><div>Social hour begins at 6:00 pm with dinner and awards at 7:00 pm</div><div>&nbsp\;</div><div><u><strong>Meal options:</strong></u></div><div>&nbsp\;</div><div>Beef: Top Sirloin with hunter mushroom sauce</div><div>Chicken: Chicken Cordon Blue with bernaise cream sauce</div><div>Vegetarian: Fettuccini with pesto and grilled vegetables</div><div>&nbsp\;</div><div>Please remember to call the Chamber with your meal selection or email at <a href="mailto:paula@keizerchamber.com">paula@keizerchamber.com</a></div><div>&nbsp\;</div><div>We hope to see you there!</div>
LOCATION:Keizer Renaissance Inn5188 Wittenberg LaneKeizer\, Oregon
UID:e.63.1904
SEQUENCE:3
DTSTAMP:20260422T204954Z
URL:https://cm.keizerchamber.com/events/details/first-citizens-banquet-01-17-2009-1904
END:VEVENT

END:VCALENDAR
