BEGIN:VCALENDAR
VERSION:2.0
PRODID:-//ChamberMaster//Event Calendar 2.0//EN
METHOD:PUBLISH
X-PUBLISHED-TTL:P3D
REFRESH-INTERVAL:P3D
CALSCALE:GREGORIAN
BEGIN:VEVENT
DTSTART:20240121T013000Z
DTEND:20240121T060000Z
X-MICROSOFT-CDO-ALLDAYEVENT:FALSE
SUMMARY:First Citizen Banquet
DESCRIPTION:Join us as we Honor Keizer's First Citizen Award recipients.\n\n\n\nWe will honor the winners of the First Citizen\, Merchant of the Year\, President's Choice\, Service to Education and the Dennis Koho Future First Citizen awards. \n\n\n\nThank you to our Presenting Sponsor Willamette Valley Bank of Keizer\n\nService to Education Award sponsor - Oregon State Credit Union\n\nFirst Citizen Award Sponsor: Northwest Dental Arts\n\nPresidents Award Sponsor: Remodeling by Classic Homes\n\nMerchant of the Year Award Sponsor: Boucher Jewelers\n\n\n\nBar Sponsor: Mike Lowery with HomeSmart Realty Group\n\nFood Sponsor: R. Bauer Insurance\, Solid Roofing NW\, Miller's BBQ\, and Loren's Sanitation\n\nDessert Sponsor\; Michelle Ashley Custom Cakes\n\n\n\nWe would also like to thank John Strauch from Mid-Valley Media\, Photos by Orion\, The City of Keizer\, and the McNary High School Media Production Program.\n\n\n\nThank you to Willamette Valley Bank for being the Presenting Sponsor!
X-ALT-DESC;FMTTYPE=text/html:Join us as we Honor Keizer&#39\;s First Citizen Award recipients.<br />\n<br />\nWe will honor the winners of the First Citizen\, Merchant of the Year\, President&#39\;s Choice\, Service to Education and the Dennis Koho Future First Citizen awards.&nbsp\;<br />\n<br />\nThank you to our Presenting Sponsor Willamette Valley Bank of Keizer<br />\nService to Education Award sponsor - Oregon State Credit Union<br />\nFirst Citizen Award Sponsor: Northwest Dental Arts<br />\nPresidents Award Sponsor: Remodeling by Classic Homes<br />\nMerchant of the Year Award Sponsor: Boucher Jewelers<br />\n<br />\nBar Sponsor: Mike Lowery with HomeSmart Realty Group<br />\nFood Sponsor: R. Bauer Insurance\, Solid Roofing NW\, Miller&#39\;s BBQ\, and Loren&#39\;s Sanitation<br />\nDessert Sponsor\; Michelle Ashley Custom Cakes<br />\n<br />\nWe would also like to thank John Strauch from Mid-Valley Media\, Photos by Orion\, The City of Keizer\, and the McNary High School Media Production Program.<br />\n<br />\nThank you to Willamette Valley Bank for being the Presenting Sponsor!<br />\n<br />\n&nbsp\;
LOCATION:Keizer Civic Center 930 Chemawa Rd N Keizer OR 97303
UID:e.63.28306
SEQUENCE:3
DTSTAMP:20260424T030821Z
URL:https://cm.keizerchamber.com/events/details/first-citizen-banquet-28306
END:VEVENT

END:VCALENDAR
