BEGIN:VCALENDAR
VERSION:2.0
PRODID:-//ChamberMaster//Event Calendar 2.0//EN
METHOD:PUBLISH
X-PUBLISHED-TTL:P3D
REFRESH-INTERVAL:P3D
CALSCALE:GREGORIAN
BEGIN:VEVENT
DTSTART;VALUE=DATE:20100920
DTEND;VALUE=DATE:20100921
TRANSP:TRANSPARENT
X-MICROSOFT-CDO-ALLDAYEVENT:TRUE
SUMMARY:Event at Oregon Paralyzed Veterans of America\, Inc
DESCRIPTION:The 2010 Grass Masters Classic Charity Golf Tournament will take place on September 20\, 2010 at Creekside Golf Club's beautiful 18 hole championship course designed by Peter Jacobsen. \nRegistration begins at 10 a.m. with warm-ups at the driving range starting at 11:00 a.m. The 4 person scramble format is scheduled for a shotgun start at 12:00 p.m. and the awards banquet will be held in the ballroom at 5:00 p.m.
X-ALT-DESC;FMTTYPE=text/html:<div>The 2010 Grass Masters Classic Charity Golf Tournament will take place on September 20\, 2010 at Creekside Golf Club's beautiful 18 hole championship course designed by Peter Jacobsen. <br />Registration begins at 10 a.m. with warm-ups at the driving range starting at 11:00 a.m. The 4 person scramble format is scheduled for a shotgun start at 12:00 p.m. and the awards banquet will be held in the ballroom at 5:00 p.m.</div>
LOCATION:Creekside Golf Club
UID:e.63.2367
SEQUENCE:3
DTSTAMP:20260419T142653Z
URL:https://cm.keizerchamber.com/events/details/event-at-oregon-paralyzed-veterans-of-america-inc-09-20-2010-2367
END:VEVENT

END:VCALENDAR
