BEGIN:VCALENDAR
VERSION:2.0
PRODID:-//ChamberMaster//Event Calendar 2.0//EN
METHOD:PUBLISH
X-PUBLISHED-TTL:P3D
REFRESH-INTERVAL:P3D
CALSCALE:GREGORIAN
BEGIN:VEVENT
DTSTART:20090215T020000Z
DTEND:20090215T070000Z
X-MICROSOFT-CDO-ALLDAYEVENT:FALSE
SUMMARY:Evening of Dance and Silent Auction
DESCRIPTION:Mark your calendar.  Make plans to attend.  It?s time for the McNary High Schools Dance Teams annual Evening of Dance\, and Silent Auction to be held on February 14th\, 2009 in the McNary High School Ken Collins Theater.  \nStep outside the box and go beyond the typical dinner and a movie.  Instead take your special someone to dinner\, and then treat him or her to a showcase of the State?s Premier dancers. \nThis is your chance to combine a little bit of fun shopping and support of your local High School Dance Team.  All proceeds from the auction will go to the Dance Team in their pursuit in making it to the State Dance Competition in Portland Oregon.  Plan to attend.  Bring a friend.  And bring your cash or checkbook!  Sorry\, we will not be able to process credit cards.  There will be some treats and beverages to follow.
X-ALT-DESC;FMTTYPE=text/html:Mark your calendar.  Make plans to attend.  It?s time for the McNary High Schools Dance Teams annual Evening of Dance\, and Silent Auction to be held on February 14th\, 2009 in the McNary High School Ken Collins Theater.  \nStep outside the box and go beyond the typical dinner and a movie.  Instead take your special someone to dinner\, and then treat him or her to a showcase of the State?s Premier dancers. \nThis is your chance to combine a little bit of fun shopping and support of your local High School Dance Team.  All proceeds from the auction will go to the Dance Team in their pursuit in making it to the State Dance Competition in Portland Oregon.  Plan to attend.  Bring a friend.  And bring your cash or checkbook!  Sorry\, we will not be able to process credit cards.  There will be some treats and beverages to follow.\n
LOCATION:McNary High School Ken Collins Theater
UID:e.63.1914
SEQUENCE:3
DTSTAMP:20260422T155826Z
URL:https://cm.keizerchamber.com/events/details/evening-of-dance-and-silent-auction-02-14-2009-1914
END:VEVENT

END:VCALENDAR
