BEGIN:VCALENDAR
VERSION:2.0
PRODID:-//ChamberMaster//Event Calendar 2.0//EN
METHOD:PUBLISH
X-PUBLISHED-TTL:P3D
REFRESH-INTERVAL:P3D
CALSCALE:GREGORIAN
BEGIN:VEVENT
DTSTART:20081007T143000Z
DTEND:20081007T163000Z
X-MICROSOFT-CDO-ALLDAYEVENT:FALSE
SUMMARY:Employer Breakfast Forum - Econ. Impact of Substance Abuse
DESCRIPTION:Join us on October 7th to discuss...AN ECONOMIC IMPACT OF SUBSTANCE ABUSE IN OREGON AND THE NEED FOR A LEGISLATIVE SOLUTIONThe cost of substance abuse to the Oregon economy was a staggering $6 billon in 2006. Substance abuse has become one of the toughest challenges for employers in Oregon as well as the single most costly health care and social proble in the state. Speakers:Dan Harmon\, Executive vice President & General Counsel\, Hoffman Corporation chair\, Drugfree Workplace Legislative Work Group\; vice chair Associated Oregon IndustriesLegislative Panel: Rep. Vicki Berger\, Rep. Kevin Cameron\, Rep. Brian clem\, and Senator Fred Girod
X-ALT-DESC;FMTTYPE=text/html:<p><font size="3">Join us on October 7th to discuss...</font></p><p><font size="3">AN ECONOMIC IMPACT OF SUBSTANCE ABUSE IN OREGON AND THE NEED FOR A LEGISLATIVE SOLUTION</font></p><p><font size="3">The cost of substance abuse to the Oregon economy was a staggering $6 billon in 2006. Substance abuse has become one of the toughest challenges for employers in Oregon as well as the single most costly health care and social proble in the state. </font></p><p><font size="3">Speakers:</font></p><p><font size="3">Dan Harmon\, Executive vice President &amp\; General Counsel\, Hoffman Corporation chair\, Drugfree Workplace Legislative Work Group\; vice chair Associated Oregon Industries</font></p><p><font size="3">Legislative Panel: Rep. Vicki Berger\, Rep. Kevin Cameron\, Rep. Brian clem\, and Senator Fred Girod</font></p><p>&nbsp\;</p><p>&nbsp\;</p>
LOCATION:WELLSPRING MEDICAL CENTER1475 Mt.Hood Ave.\, Woodburn
UID:e.63.1750
SEQUENCE:3
DTSTAMP:20260422T215136Z
URL:https://cm.keizerchamber.com/events/details/employer-breakfast-forum-econ-impact-of-substance-abuse-10-07-2008-1750
END:VEVENT

END:VCALENDAR
