BEGIN:VCALENDAR
VERSION:2.0
PRODID:-//ChamberMaster//Event Calendar 2.0//EN
METHOD:PUBLISH
X-PUBLISHED-TTL:P3D
REFRESH-INTERVAL:P3D
CALSCALE:GREGORIAN
BEGIN:VEVENT
DTSTART:20231022T020000Z
DTEND:20231022T050000Z
X-MICROSOFT-CDO-ALLDAYEVENT:FALSE
SUMMARY:Dance Your 50s Band
DESCRIPTION:Dance with light refreshments and fellowship.
X-ALT-DESC;FMTTYPE=text/html:Dance with light refreshments and fellowship.
LOCATION:Keizer Salem Senior Center 930 Plymouth DR NE Keizer\, OR 97303
UID:e.63.28412
SEQUENCE:3
DTSTAMP:20260424T001240Z
URL:https://cm.keizerchamber.com/events/details/dance-your-50s-band-28412
END:VEVENT

END:VCALENDAR
