BEGIN:VCALENDAR
VERSION:2.0
PRODID:-//ChamberMaster//Event Calendar 2.0//EN
METHOD:PUBLISH
X-PUBLISHED-TTL:P3D
REFRESH-INTERVAL:P3D
CALSCALE:GREGORIAN
BEGIN:VEVENT
DTSTART:20240518T010000Z
DTEND:20240518T050000Z
X-MICROSOFT-CDO-ALLDAYEVENT:FALSE
SUMMARY:Dance Party Night
DESCRIPTION:Social Ballroom Dancing Bring your Take Out and eat and dance No experience\, no partner\, no problem\, we can get you dancing.
X-ALT-DESC;FMTTYPE=text/html:Social Ballroom Dancing Bring your Take Out and eat and dance No experience\, no partner\, no problem\, we can get you dancing.
LOCATION:Lora Michele Dance Studio 939 Main Street Dallas\, Oregon
UID:e.63.28627
SEQUENCE:3
DTSTAMP:20260421T054735Z
URL:https://cm.keizerchamber.com/events/details/dance-party-night-28627
END:VEVENT

END:VCALENDAR
