BEGIN:VCALENDAR
VERSION:2.0
PRODID:-//ChamberMaster//Event Calendar 2.0//EN
METHOD:PUBLISH
X-PUBLISHED-TTL:P3D
REFRESH-INTERVAL:P3D
CALSCALE:GREGORIAN
BEGIN:VEVENT
DTSTART:20231126T220000Z
DTEND:20231127T000000Z
X-MICROSOFT-CDO-ALLDAYEVENT:FALSE
SUMMARY:Dance Lee Nicholas & Diane
DESCRIPTION:Dance with fellowship and light refreshments.
X-ALT-DESC;FMTTYPE=text/html:Dance with fellowship and light refreshments.
LOCATION:Keizer/Salem Area Senior Center 930 Plymouth DR NE Keizer\, OR 9\\303
UID:e.63.28466
SEQUENCE:3
DTSTAMP:20260423T225756Z
URL:https://cm.keizerchamber.com/events/details/dance-lee-nicholas-diane-11-26-2023-28466
END:VEVENT

END:VCALENDAR
