BEGIN:VCALENDAR
VERSION:2.0
PRODID:-//ChamberMaster//Event Calendar 2.0//EN
METHOD:PUBLISH
X-PUBLISHED-TTL:P3D
REFRESH-INTERVAL:P3D
CALSCALE:GREGORIAN
BEGIN:VEVENT
DTSTART:20240121T030000Z
DTEND:20240121T060000Z
X-MICROSOFT-CDO-ALLDAYEVENT:FALSE
SUMMARY:Dance Billy & the Rockets
DESCRIPTION:Dance with fellowship and light refreshments.
X-ALT-DESC;FMTTYPE=text/html:Dance with fellowship and light refreshments.
LOCATION:Keizer Salem Senior Center 930 Plymouth DR NE Keizer\, OR 97303
UID:e.63.28539
SEQUENCE:3
DTSTAMP:20260424T030946Z
URL:https://cm.keizerchamber.com/events/details/dance-billy-the-rockets-01-20-2024-28539
END:VEVENT

END:VCALENDAR
