BEGIN:VCALENDAR
VERSION:2.0
PRODID:-//ChamberMaster//Event Calendar 2.0//EN
METHOD:PUBLISH
X-PUBLISHED-TTL:P3D
REFRESH-INTERVAL:P3D
CALSCALE:GREGORIAN
BEGIN:VEVENT
DTSTART:20070317T014500Z
DTEND:20070317T040000Z
X-MICROSOFT-CDO-ALLDAYEVENT:FALSE
SUMMARY:Cwerks Murder Mystery
DESCRIPTION:Cwerks Interactive Murder Mystery on board the Willamette Queen. The admission price includes dinner\, 2-hour cruise and show.
X-ALT-DESC;FMTTYPE=text/html:Cwerks Interactive Murder Mystery on board the Willamette Queen. The admission price includes dinner\, 2-hour cruise and show.
LOCATION:Willamette Queen Sternwheeler at River Front Park\, Salem.
UID:e.63.997
SEQUENCE:3
DTSTAMP:20260423T234506Z
URL:https://cm.keizerchamber.com/events/details/cwerks-murder-mystery-03-16-2007-997
END:VEVENT

END:VCALENDAR
