BEGIN:VCALENDAR
VERSION:2.0
PRODID:-//ChamberMaster//Event Calendar 2.0//EN
METHOD:PUBLISH
X-PUBLISHED-TTL:P3D
REFRESH-INTERVAL:P3D
CALSCALE:GREGORIAN
BEGIN:VEVENT
DTSTART:20070520T063000Z
DTEND:20070519T214500Z
X-MICROSOFT-CDO-ALLDAYEVENT:FALSE
SUMMARY:Cwerks Children's Show
DESCRIPTION:Cwerks and Northern Lights Theatre team up to bring Double Play Saturday. The admission price includes an interactive play\, a movie and a pizza lunch. This month's play is "Big Steps: American Tall Tales". Movie: TBA.
X-ALT-DESC;FMTTYPE=text/html:Cwerks and Northern Lights Theatre team up to bring Double Play Saturday. The admission price includes an interactive play\, a movie and a pizza lunch. This month's play is "Big Steps: American Tall Tales". Movie: TBA.
LOCATION:Northern Lights Theatre\, 3893Â Commercial St. SE\, Salem
UID:e.63.1004
SEQUENCE:3
DTSTAMP:20260423T233640Z
URL:https://cm.keizerchamber.com/events/details/cwerks-children-s-show-05-19-2007-1004
END:VEVENT

END:VCALENDAR
