BEGIN:VCALENDAR
VERSION:2.0
PRODID:-//ChamberMaster//Event Calendar 2.0//EN
METHOD:PUBLISH
X-PUBLISHED-TTL:P3D
REFRESH-INTERVAL:P3D
CALSCALE:GREGORIAN
BEGIN:VEVENT
DTSTART:20090731T020000Z
DTEND:20090731T050000Z
X-MICROSOFT-CDO-ALLDAYEVENT:FALSE
SUMMARY:Crystal Gayle at Oregon Garden
DESCRIPTION:Enjoy Crystal Gayle with special guest Juice Newton in The Oregon Garden amphitheater.
X-ALT-DESC;FMTTYPE=text/html:Enjoy Crystal Gayle with special guest Juice Newton in The Oregon Garden amphitheater.
LOCATION:The Oregon Garden 879 W Main St Silverton
UID:e.63.1973
SEQUENCE:3
DTSTAMP:20260422T092725Z
URL:https://cm.keizerchamber.com/events/details/crystal-gayle-at-oregon-garden-07-30-2009-1973
END:VEVENT

END:VCALENDAR
