BEGIN:VCALENDAR
VERSION:2.0
PRODID:-//ChamberMaster//Event Calendar 2.0//EN
METHOD:PUBLISH
X-PUBLISHED-TTL:P3D
REFRESH-INTERVAL:P3D
CALSCALE:GREGORIAN
BEGIN:VEVENT
DTSTART:20090327T013000Z
DTEND:20090327T043000Z
X-MICROSOFT-CDO-ALLDAYEVENT:FALSE
SUMMARY:Create Your Own Destiny
DESCRIPTION:Best Selling Author Patrick Snow will present ideas from his book Creating Your Own Destiny.   Patrick has useful information on being successful on a limited budget.  He will also present information about a phenomenal new program: iLearningGlobal Co-Founded by Mega-Selling Author and Sales Trainer Brian Tracy.
X-ALT-DESC;FMTTYPE=text/html:Best Selling Author Patrick Snow will present ideas from his book Creating Your Own Destiny.   Patrick has useful information on being successful on a limited budget.  He will also present information about a phenomenal new program: iLearningGlobal Co-Founded by Mega-Selling Author and Sales Trainer Brian Tracy.
LOCATION:Keizer Renaissance Inn 5188 Wittenberg Lane Keizer\, OR 97303
UID:e.63.1933
SEQUENCE:3
DTSTAMP:20260419T185102Z
URL:https://cm.keizerchamber.com/events/details/create-your-own-destiny-03-26-2009-1933
END:VEVENT

END:VCALENDAR
