BEGIN:VCALENDAR
VERSION:2.0
PRODID:-//ChamberMaster//Event Calendar 2.0//EN
METHOD:PUBLISH
X-PUBLISHED-TTL:P3D
REFRESH-INTERVAL:P3D
CALSCALE:GREGORIAN
BEGIN:VEVENT
DTSTART:20231014T200000Z
DTEND:20231015T000000Z
X-MICROSOFT-CDO-ALLDAYEVENT:FALSE
SUMMARY:Craft & Cocoa at Pacific Poppy
DESCRIPTION:Pacific Poppy Presents\n\nCraft & Cocoa\n\n\n\nJoin us for a free event that will feature kids craft\, fall treats and a hot chocolate bar. We will also have discounts at our shop.  \n\n\n\nFollow this link for more information: https://www.facebook.com/events/3236699156630236/?acontext=%7B%22event_action_history%22%3A[]%7D
X-ALT-DESC;FMTTYPE=text/html:<span style="font-size:18px\;"><strong>Pacific Poppy Presents<br />\nCraft &amp\; Cocoa</strong></span><br />\n<br />\n<span style="font-size:16px\;">Join us for a free event that will feature kids craft\, fall treats and a hot chocolate bar. We will also have discounts at our shop.&nbsp\;&nbsp\;<br />\n<br />\nFollow this link for more information:&nbsp\;<a href="https://www.facebook.com/events/3236699156630236/?acontext=%7B%22event_action_history%22%3A[]%7D">https://www.facebook.com/events/3236699156630236/?acontext=%7B%22event_action_history%22%3A[]%7D</a></span>
LOCATION:Pacific Poppy 3940 Cherry Ave NE Suite 102 Keizer\, OR 97303
UID:e.63.28456
SEQUENCE:3
DTSTAMP:20260424T001336Z
URL:https://cm.keizerchamber.com/events/details/craft-cocoa-at-pacific-poppy-28456
END:VEVENT

END:VCALENDAR
