BEGIN:VCALENDAR
VERSION:2.0
PRODID:-//ChamberMaster//Event Calendar 2.0//EN
METHOD:PUBLISH
X-PUBLISHED-TTL:P3D
REFRESH-INTERVAL:P3D
CALSCALE:GREGORIAN
BEGIN:VEVENT
DTSTART:20230909T190000Z
DTEND:20230909T220000Z
X-MICROSOFT-CDO-ALLDAYEVENT:FALSE
SUMMARY:Community Salmon Celebration
DESCRIPTION:Community Salmon Celebration    \n\n\n\nAre you curious about Pacific Salmon and what they need to survive in freshwater habitats?  We invite you to come walk the path at Bush's Pasture Park on Salmon Celebration Day and learn about these awe-inspiring fish and what makes them special\, explore the key characteristics used to determine stream health and have hands-on fun!  This free\, move-at-your-own-pace event is appropriate for all ages. Everyone is sure to learn something new!\n\n\n\nMost stations are along Pringle Creek. Visitors are encouraged to park on Leffelle Street on the south side of the park.\n\n\n\nClick HERE for a map of event and station locations.\n\n\n\nThis event is coordinated by the Mid-Willamette Outreach Group\, an inter-agency partnership that collaborates on water quality outreach. Members include Marion Soil & Water Conservation District\, City of Salem\, City of Keizer\, and Marion County.  Mid-Willamette Outreach Group - Marion SWCD
X-ALT-DESC;FMTTYPE=text/html:Community Salmon Celebration&nbsp\;&nbsp\;&nbsp\;&nbsp\;<br />\n<br />\nAre you curious about Pacific Salmon and what they need to survive in freshwater habitats?&nbsp\; We invite you to come walk the path at Bush&#39\;s Pasture Park on Salmon Celebration Day and learn about these awe-inspiring fish and what makes them special\, explore the key characteristics used to determine stream health and have hands-on fun!&nbsp\; This free\, move-at-your-own-pace event is appropriate for all ages. Everyone is sure to learn something new!<br />\n<br />\nMost stations are along Pringle Creek. Visitors are encouraged to park on Leffelle Street on the south side of the park.<br />\n<br />\nClick <a href="https://storymaps.arcgis.com/stories/85ae18864b9c47b3ba9618fe1692c567">HERE</a> for a map of event and station locations.<br />\n<br />\nThis event is coordinated by the Mid-Willamette Outreach Group\, an inter-agency partnership that collaborates on water quality outreach. Members include Marion Soil &amp\; Water Conservation District\, City of Salem\, City of Keizer\, and Marion County.&nbsp\; <a href="https://www.marionswcd.net/mwog/">Mid-Willamette Outreach Group - Marion SWCD</a>
LOCATION:Bush Pasture Park Salem\, OR
UID:e.63.28385
SEQUENCE:3
DTSTAMP:20260424T014340Z
URL:https://cm.keizerchamber.com/events/details/community-salmon-celebration-28385
END:VEVENT

END:VCALENDAR
